BEGIN:VCALENDAR
VERSION:2.0
PRODID:-//Ready - ECPv4.5.5//NONSGML v1.0//EN
CALSCALE:GREGORIAN
METHOD:PUBLISH
X-WR-CALNAME:Ready
X-ORIGINAL-URL:http://readycoffeeshop.lu
X-WR-CALDESC:Events for Ready
BEGIN:VEVENT
DTSTART;TZID=UTC+0:20151206T103000
DTEND;TZID=UTC+0:20151206T150000
DTSTAMP:20170621T094714
CREATED:20151123T162055Z
LAST-MODIFIED:20151123T162205Z
UID:1382-1449397800-1449414000@readycoffeeshop.lu
SUMMARY:Ready December Brunch
DESCRIPTION:
URL:http://readycoffeeshop.lu/agenda/ready-december-brunch/
LOCATION:35\, avenue du bois\, Luxembourg\, 1251\, Luxembourg
CATEGORIES:Brunch
END:VEVENT
END:VCALENDAR